BEGIN:VCALENDAR
PRODID:-//eluceo/ical//2.0/EN
VERSION:2.0
CALSCALE:GREGORIAN
BEGIN:VEVENT
UID:ef74c030a22ece8d17bbeb46ab2e9aae
DTSTAMP:20260422T153809Z
SUMMARY:Männertag
DESCRIPTION:Ein geselliger Feiertag mit guter Stimmung\, Musik und Zeit zum
  Zusammensein. Perfekt\, um gemeinsam zu feiern und den Tag entspannt zu g
 enießen.
URL:https://www.meinplaner.com
DTSTART;TZID=Europe/Amsterdam:20260514T103000
DTEND;TZID=Europe/Amsterdam:20260514T123000
LOCATION:Kaisergrubenstr. \, 09355 Gersdorf
BEGIN:VALARM
ACTION:DISPLAY
DESCRIPTION:Erinnerung: Männertag beginnt in 1 Stunde
TRIGGER;RELATED=END:-PT1H
END:VALARM
END:VEVENT
END:VCALENDAR
