BEGIN:VCALENDAR
PRODID:-//eluceo/ical//2.0/EN
VERSION:2.0
CALSCALE:GREGORIAN
BEGIN:VEVENT
UID:520dc5534a058e18d5f00cdd5c02991f
DTSTAMP:20260420T154252Z
SUMMARY:Paul&Paula: Ich liebe dich trotzdem
DESCRIPTION:Das Leben könnte so schön sein: Computer spielen\, kochen\, F
 reunde treffen\, in den Urlaub fahren... aber nein! Paul und Paula haben e
 ine ganz normale Beziehung und alles artet in Streit aus. Anstatt zu reden
 \, gibt’s ironische Sprüche und Sarkasmus.
URL:https://www.meinplaner.com
DTSTART;TZID=Europe/Amsterdam:20260430T200000
DTEND;TZID=Europe/Amsterdam:20260430T220000
LOCATION:An der Markthalle 1 -3\, 09111 Chemnitz
BEGIN:VALARM
ACTION:DISPLAY
DESCRIPTION:Erinnerung: Paul&Paula: Ich liebe dich trotzdem beginnt in 1 St
 unde
TRIGGER;RELATED=END:-PT1H
END:VALARM
END:VEVENT
END:VCALENDAR
