BEGIN:VCALENDAR
PRODID:-//eluceo/ical//2.0/EN
VERSION:2.0
CALSCALE:GREGORIAN
BEGIN:VEVENT
UID:1edf378f3121ae315b68a12a54ce2fab
DTSTAMP:20260419T160038Z
SUMMARY:Trio East of Mozart
DESCRIPTION:Das Trio East of Mozart improvisiert live zum Stummfilm Die Abe
 nteuer der Biene Maja. Musik und Film verschmelzen zu einem besonderen Kin
 oerlebnis zwischen Fantasie\, Experiment und zeitgenössischer Klangkunst.
URL:https://www.meinplaner.com
DTSTART;TZID=Europe/Amsterdam:20260425T193000
DTEND;TZID=Europe/Amsterdam:20260425T213000
LOCATION:Moritzstr. 20\, 09111 Chemnitz
BEGIN:VALARM
ACTION:DISPLAY
DESCRIPTION:Erinnerung: Trio East of Mozart beginnt in 1 Stunde
TRIGGER;RELATED=END:-PT1H
END:VALARM
END:VEVENT
END:VCALENDAR
