BEGIN:VCALENDAR
PRODID:-//eluceo/ical//2.0/EN
VERSION:2.0
CALSCALE:GREGORIAN
BEGIN:VEVENT
UID:08969ffeb95c5ea926f0dacef72acb0e
DTSTAMP:20260420T105714Z
SUMMARY:Wir lesen vor
DESCRIPTION:Spannende\, gruselige oder lustige Bücher haben sich die Vorle
 sepaten ausgesucht. Mit Bildern\, Figuren und der eigenen Stimme gestalten
  sie eine Stunde und laden Kinder zum Zuhören ein.
URL:https://www.meinplaner.com
DTSTART;TZID=Europe/Amsterdam:20260521T160000
DTEND;TZID=Europe/Amsterdam:20260521T180000
LOCATION:Katharinenstr. 44A\, 08056 Zwickau
BEGIN:VALARM
ACTION:DISPLAY
DESCRIPTION:Erinnerung: Wir lesen vor beginnt in 1 Stunde
TRIGGER;RELATED=END:-PT1H
END:VALARM
END:VEVENT
END:VCALENDAR
