BEGIN:VCALENDAR
PRODID:-//eluceo/ical//2.0/EN
VERSION:2.0
CALSCALE:GREGORIAN
BEGIN:VEVENT
UID:43143d481192d3549e61f19b6993dec8
DTSTAMP:20260421T005548Z
SUMMARY:Pippi Langstrumpf & Familienfest
DESCRIPTION:Pippi lebt in der Villa Kunterbunt\, ist stark wie zehn Erwachs
 ene und liebt das freie Leben. Mit Fantasie\, Mut und tierischen Freunden 
 zeigt sie grenzenlose Freiheit. Danach lädt ein buntes Familienfest mit A
 ttraktionen ein.
URL:https://www.meinplaner.com
DTSTART;TZID=Europe/Amsterdam:20260823T150000
DTEND;TZID=Europe/Amsterdam:20260823T170000
LOCATION:Greifensteinstraße  42\, 09427 Ehrenfriedersdorf
BEGIN:VALARM
ACTION:DISPLAY
DESCRIPTION:Erinnerung: Pippi Langstrumpf & Familienfest beginnt in 1 Stund
 e
TRIGGER;RELATED=END:-PT1H
END:VALARM
END:VEVENT
END:VCALENDAR
