BEGIN:VCALENDAR
PRODID:-//eluceo/ical//2.0/EN
VERSION:2.0
CALSCALE:GREGORIAN
BEGIN:VEVENT
UID:0e46fd5a73449212a62a33244e1f99fb
DTSTAMP:20260419T171321Z
SUMMARY:Schauröstungen
DESCRIPTION:Das Erlebnis der Schauröstung entführt in die Welt des Kaffee
 s – der Duft frisch gerösteter Bohnen erfüllt den Raum. Mit maximal 15
  Personen kann der faszinierende Prozess hautnah erlebt werden\, direkt im
  Herzen des Cafés.
URL:https://www.meinplaner.com
DTSTART;TZID=Europe/Amsterdam:20260420T170000
DTEND;TZID=Europe/Amsterdam:20260420T173000
LOCATION:Chemnitzer Str. 10\, 09221 Neukirchen/Erzgeb.
BEGIN:VALARM
ACTION:DISPLAY
DESCRIPTION:Erinnerung: Schauröstungen beginnt in 1 Stunde
TRIGGER;RELATED=END:-PT1H
END:VALARM
END:VEVENT
BEGIN:VEVENT
UID:c9876de3e9c64522919f85482f49ee08
DTSTAMP:20260419T171321Z
SUMMARY:Schauröstungen
DESCRIPTION:Das Erlebnis der Schauröstung entführt in die Welt des Kaffee
 s – der Duft frisch gerösteter Bohnen erfüllt den Raum. Mit maximal 15
  Personen kann der faszinierende Prozess hautnah erlebt werden\, direkt im
  Herzen des Cafés.
URL:https://www.meinplaner.com
DTSTART;TZID=Europe/Amsterdam:20260420T130000
DTEND;TZID=Europe/Amsterdam:20260420T133000
LOCATION:Chemnitzer Str. 10\, 09221 Neukirchen/Erzgeb.
BEGIN:VALARM
ACTION:DISPLAY
DESCRIPTION:Erinnerung: Schauröstungen beginnt in 1 Stunde
TRIGGER;RELATED=END:-PT1H
END:VALARM
END:VEVENT
END:VCALENDAR
