BEGIN:VCALENDAR
PRODID:-//eluceo/ical//2.0/EN
VERSION:2.0
CALSCALE:GREGORIAN
BEGIN:VEVENT
UID:d84323b716fdb00b4672d00e1058864a
DTSTAMP:20260420T153944Z
SUMMARY:28. Chemnitzer Schultheaterwoche: Julius Cäsar
DESCRIPTION:Brutus versucht vergeblich\, Cäsar von seinem diktatorischen K
 urs abzubringen und schließt sich schließlich der Verschwörung an. Als 
 er dem Volk seine Gründe erklären will\, nutzt Marcus Antonius die Geleg
 enheit\, manipuliert die Menge und entfacht einen Aufstand
URL:https://www.meinplaner.com
DTSTART;TZID=Europe/Amsterdam:20260422T190000
DTEND;TZID=Europe/Amsterdam:20260422T210000
LOCATION:Altchemnitzer Str. 27\, 09120 Chemnitz
BEGIN:VALARM
ACTION:DISPLAY
DESCRIPTION:Erinnerung: 28. Chemnitzer Schultheaterwoche: Julius Cäsar beg
 innt in 1 Stunde
TRIGGER;RELATED=END:-PT1H
END:VALARM
END:VEVENT
END:VCALENDAR
