BEGIN:VCALENDAR
PRODID:-//eluceo/ical//2.0/EN
VERSION:2.0
CALSCALE:GREGORIAN
BEGIN:VEVENT
UID:e5072c256c00ba648140ca33fcc67f2e
DTSTAMP:20260421T143009Z
SUMMARY:Tacheles! Chemnitzer Museumsnacht 2026
DESCRIPTION:Ein abwechslungsreicher Abend voller Kunst und Kreativität: Mi
 t Mitmachaktionen\, Depotführung\, Lesung aus Herta Müller und Open Pian
 o wird die Galerie zum lebendigen Erlebnisraum. Entdecken\, ausprobieren u
 nd genießen.
URL:https://www.meinplaner.com
DTSTART;TZID=Europe/Amsterdam:20260509T180000
DTEND;TZID=Europe/Amsterdam:20260510T010000
LOCATION:Moritzstr. 20\, 09111 Chemnitz
BEGIN:VALARM
ACTION:DISPLAY
DESCRIPTION:Erinnerung: Tacheles! Chemnitzer Museumsnacht 2026 beginnt in 1
  Stunde
TRIGGER;RELATED=END:-PT1H
END:VALARM
END:VEVENT
END:VCALENDAR
