BEGIN:VCALENDAR
PRODID:-//eluceo/ical//2.0/EN
VERSION:2.0
CALSCALE:GREGORIAN
BEGIN:VEVENT
UID:fb67fbe5940790e4d4a9c9ce65bcf2b3
DTSTAMP:20260425T110206Z
SUMMARY:Modecafé
DESCRIPTION:Im Modecafé im Werkhaus verschmelzen Mode aus Apolda und die L
 ive-Musik von Sandra zu einem inspirierenden Erlebnis\, das Kreativität u
 nd Stil in einem einzigartigen Ambiente vereint.
URL:https://www.meinplaner.com
DTSTART;TZID=Europe/Amsterdam:20260731T150000
DTEND;TZID=Europe/Amsterdam:20260731T190000
LOCATION:Karlsbaderstraße 113\, 08289 Schneeberg
BEGIN:VALARM
ACTION:DISPLAY
DESCRIPTION:Erinnerung: Modecafé beginnt in 1 Stunde
TRIGGER;RELATED=END:-PT1H
END:VALARM
END:VEVENT
END:VCALENDAR
