BEGIN:VCALENDAR
PRODID:-//eluceo/ical//2.0/EN
VERSION:2.0
CALSCALE:GREGORIAN
BEGIN:VEVENT
UID:d12a8a84e37d133ab01801a1f578f3a6
DTSTAMP:20260420T231033Z
SUMMARY:Restaurant Braumeisterstube
DESCRIPTION:Die „Braumeisterstube“ im Lay-Haus begeistert mit sächsisc
 her Küche\, frisch gezapftem Bier und urigem Ambiente. Ein Ort\, der regi
 onale Genussmomente und herzliche Gastlichkeit verbindet – perfekt für 
 alle\, die authentisch speisen möchten.
URL:https://www.meinplaner.com
DTSTART;TZID=Europe/Amsterdam:20260421T113000
DTEND;TZID=Europe/Amsterdam:20260421T140000
LOCATION:Markt  3\, 09212 Limbach-Oberfrohna
BEGIN:VALARM
ACTION:DISPLAY
DESCRIPTION:Erinnerung: Restaurant Braumeisterstube beginnt in 1 Stunde
TRIGGER;RELATED=END:-PT1H
END:VALARM
END:VEVENT
END:VCALENDAR
