BEGIN:VCALENDAR
PRODID:-//eluceo/ical//2.0/EN
VERSION:2.0
CALSCALE:GREGORIAN
BEGIN:VEVENT
UID:6e09d809ed94b3ebcf035c5d02ed6f8a
DTSTAMP:20260420T154112Z
SUMMARY:Cinderella
DESCRIPTION:Die Geschichte eines ausgebeuteten Mädchens mit unbeugsamer Zu
 versicht\, das trotz Erniedrigung seinen Lebensmut nicht verliert\, verleg
 t Sabrina Sadowska in die Nachkriegszeit von Wiederaufbau und neuem Wohlst
 and\, der Mode und des „schönen Scheins“.
URL:https://www.meinplaner.com
DTSTART;TZID=Europe/Amsterdam:20260517T160000
DTEND;TZID=Europe/Amsterdam:20260517T180000
LOCATION:Theaterplatz  2\, 09111 Chemnitz
BEGIN:VALARM
ACTION:DISPLAY
DESCRIPTION:Erinnerung: Cinderella beginnt in 1 Stunde
TRIGGER;RELATED=END:-PT1H
END:VALARM
END:VEVENT
END:VCALENDAR
