BEGIN:VCALENDAR
PRODID:-//eluceo/ical//2.0/EN
VERSION:2.0
CALSCALE:GREGORIAN
BEGIN:VEVENT
UID:3d649bb3e07a7cc8ba90690007503854
DTSTAMP:20260425T032037Z
SUMMARY:Genuss mit Aussicht
DESCRIPTION:Der Kiosk am Adelsbergturm in Chemnitz bietet eine vielfältige
  Auswahl an Snacks und Getränken und lädt dazu ein\, die herrliche Aussi
 cht zu genießen\, während man sich bei schönem Wetter im Freien entspan
 nen kann.
URL:https://www.meinplaner.com
DTSTART;TZID=Europe/Amsterdam:20260425T120000
DTEND;TZID=Europe/Amsterdam:20260425T160000
LOCATION:Am Adelsbergturm 1\, 09127 Chemnitz
BEGIN:VALARM
ACTION:DISPLAY
DESCRIPTION:Erinnerung: Genuss mit Aussicht beginnt in 1 Stunde
TRIGGER;RELATED=END:-PT1H
END:VALARM
END:VEVENT
END:VCALENDAR
