BEGIN:VCALENDAR
PRODID:-//eluceo/ical//2.0/EN
VERSION:2.0
CALSCALE:GREGORIAN
BEGIN:VEVENT
UID:746225ae75f1973ad23b354fa919de97
DTSTAMP:20260424T222540Z
SUMMARY:Dorffrühling im Historischen Dorf 
DESCRIPTION:Nun wird der Winter endgültig vertrieben und Platz für Leben 
 & Frühling gemacht. Mit Lagerfeuer\, Kreativangeboten\, Imkerei\, Spielen
 \, Musik\, Speisen\, Getränken und vielem mehr. Zur Pflanzenbörse könne
 n Pflanzen verkauft\, gekauft und getauscht werden.
URL:https://www.meinplaner.com
DTSTART;TZID=Europe/Amsterdam:20260509T100000
DTEND;TZID=Europe/Amsterdam:20260509T180000
LOCATION:Am Krebsgraben 8\, 08056 Zwickau
BEGIN:VALARM
ACTION:DISPLAY
DESCRIPTION:Erinnerung: Dorffrühling im Historischen Dorf  beginnt in 1 St
 unde
TRIGGER;RELATED=END:-PT1H
END:VALARM
END:VEVENT
END:VCALENDAR
