BEGIN:VCALENDAR
PRODID:-//eluceo/ical//2.0/EN
VERSION:2.0
CALSCALE:GREGORIAN
BEGIN:VEVENT
UID:3ad2bf9fe50210dea24c245646951b51
DTSTAMP:20260425T002023Z
SUMMARY:Spielplatz Alte Ziegelei
DESCRIPTION:Direkt neben dem Imbiss befindet sich ein schöner Kinderspielp
 latz mit Rutsche\, Sandkasten\, Schaukel und Klettergerüst. Auf dem Platz
  stehen auch mehrere Bänke\, so dass sich die Eltern ein bisschen ausruhe
 n können\, während die Kleinen spielen.
URL:https://www.meinplaner.com
DTSTART;TZID=Europe/Amsterdam:20260425T000000
DTEND;TZID=Europe/Amsterdam:20260425T235900
LOCATION:Nach den Steegen  2\, 09399 Niederwürschnitz
BEGIN:VALARM
ACTION:DISPLAY
DESCRIPTION:Erinnerung: Spielplatz Alte Ziegelei beginnt in 1 Stunde
TRIGGER;RELATED=END:-PT1H
END:VALARM
END:VEVENT
END:VCALENDAR
