BEGIN:VCALENDAR
PRODID:-//eluceo/ical//2.0/EN
VERSION:2.0
CALSCALE:GREGORIAN
BEGIN:VEVENT
UID:86befd2d23bd213daea8a91d34378e64
DTSTAMP:20260421T050724Z
SUMMARY:Goldne Sonne Grillabend
DESCRIPTION:Es ist wieder Zeit\, warme Sommerabende zu genießen und gemein
 sam zu feiern. Auf dem Grill warten saftige Steaks\, Würstchen und vegeta
 rische Spezialitäten. Dazu gibt es erfrischende Getränke und leckere Bei
 lagen in entspannter Atmosphäre im Innenhof.
URL:https://www.meinplaner.com
DTSTART;TZID=Europe/Amsterdam:20260717T180000
DTEND;TZID=Europe/Amsterdam:20260717T200000
LOCATION:Fürstenplatz 5\, 08289 Schneeberg
BEGIN:VALARM
ACTION:DISPLAY
DESCRIPTION:Erinnerung: Goldne Sonne Grillabend beginnt in 1 Stunde
TRIGGER;RELATED=END:-PT1H
END:VALARM
END:VEVENT
END:VCALENDAR
