BEGIN:VCALENDAR
PRODID:-//eluceo/ical//2.0/EN
VERSION:2.0
CALSCALE:GREGORIAN
BEGIN:VEVENT
UID:548fa0b900e18d25e39d9c8a5a4041a8
DTSTAMP:20260426T024655Z
SUMMARY:1. Mai Feiertag
DESCRIPTION:Ein ideales Ausflugsziel für Familien und Freunde: Von 11 bis 
 18 Uhr lädt der Hof zum Verweilen ein. Für das leibliche Wohl ist besten
 s gesorgt – mit Kuchen\, Torten\, Gegrilltem\, frischen Backwaren und Ei
 s. Für jeden Geschmack ist etwas dabei.
URL:https://www.meinplaner.com
DTSTART;TZID=Europe/Amsterdam:20260501T110000
DTEND;TZID=Europe/Amsterdam:20260501T180000
LOCATION:Niedermülsener Hauptstr. 88\, 08132 Mülsen
BEGIN:VALARM
ACTION:DISPLAY
DESCRIPTION:Erinnerung: 1. Mai Feiertag beginnt in 1 Stunde
TRIGGER;RELATED=END:-PT1H
END:VALARM
END:VEVENT
END:VCALENDAR
