BEGIN:VCALENDAR
PRODID:-//eluceo/ical//2.0/EN
VERSION:2.0
CALSCALE:GREGORIAN
BEGIN:VEVENT
UID:81be0cfe2a690ca5fb4f5bf0da1d8e3f
DTSTAMP:20260422T083330Z
SUMMARY:Gewebtes Mondlicht
DESCRIPTION:Gewebtes Mondlicht – die Dauerausstellung im Dorfmuseum Gahle
 nz beleuchtet die Geschichte des Leinanbaus\, der Ernte und der Weitervera
 rbeitung. Sie erzählt vom Weg der Pflanze bis zum fertigen Gewebe und gib
 t Einblick in ein fast vergessenes Handwerk.
URL:https://www.meinplaner.com
DTSTART;TZID=Europe/Amsterdam:20260422T100000
DTEND;TZID=Europe/Amsterdam:20260422T170000
LOCATION:Gahlenzer Str. 105\, 09569 Oederan
BEGIN:VALARM
ACTION:DISPLAY
DESCRIPTION:Erinnerung: Gewebtes Mondlicht beginnt in 1 Stunde
TRIGGER;RELATED=END:-PT1H
END:VALARM
END:VEVENT
END:VCALENDAR
