BEGIN:VCALENDAR
PRODID:-//eluceo/ical//2.0/EN
VERSION:2.0
CALSCALE:GREGORIAN
BEGIN:VEVENT
UID:07e8009577b272b54431ea3e501af6ba
DTSTAMP:20260423T183822Z
SUMMARY:Stups\, die kleine Sternschnuppe
DESCRIPTION:Stups hat ihre Heimat\, den Kometen Rasefix\, verloren & sucht 
 eine neue Heimat\, aber weiß nicht\, wo sie anfangen soll. Die Sonne ist 
 zu heiß\, der Mond schickt Stups weg\, da ihre Geschwister schon viele L
 öcher in ihn geschlagen haben. Ob sie ein Zuhause findet?
URL:https://www.meinplaner.com
DTSTART;TZID=Europe/Amsterdam:20260517T153000
DTEND;TZID=Europe/Amsterdam:20260517T173000
LOCATION:Milchstr. 1\, 09430 Drebach
BEGIN:VALARM
ACTION:DISPLAY
DESCRIPTION:Erinnerung: Stups\, die kleine Sternschnuppe beginnt in 1 Stund
 e
TRIGGER;RELATED=END:-PT1H
END:VALARM
END:VEVENT
END:VCALENDAR
