BEGIN:VCALENDAR
PRODID:-//eluceo/ical//2.0/EN
VERSION:2.0
CALSCALE:GREGORIAN
BEGIN:VEVENT
UID:6997e385580a69a5c4e4f0d7921fa8f2
DTSTAMP:20260420T022458Z
SUMMARY:Lesung mit musikalischer Begleitung 
DESCRIPTION:Eberhard Görner liest aus seinem Roman über die Kavaliersreis
 e Augusts des Starken. Die Lesung wird von musikalischen Klängen begleite
 t und verbindet Geschichte mit literarischem Erlebnis.
URL:https://www.meinplaner.com
DTSTART;TZID=Europe/Amsterdam:20260821T160000
DTEND;TZID=Europe/Amsterdam:20260821T180000
LOCATION:Schlossstr.  2\, 08134 Wildenfels
BEGIN:VALARM
ACTION:DISPLAY
DESCRIPTION:Erinnerung: Lesung mit musikalischer Begleitung  beginnt in 1 S
 tunde
TRIGGER;RELATED=END:-PT1H
END:VALARM
END:VEVENT
END:VCALENDAR
