BEGIN:VCALENDAR
PRODID:-//eluceo/ical//2.0/EN
VERSION:2.0
CALSCALE:GREGORIAN
BEGIN:VEVENT
UID:2dd649160c305cbef88d688ff37ba62a
DTSTAMP:20260426T015403Z
SUMMARY:Kegeln im La Rustica
DESCRIPTION:Im La Rustica lädt eine moderne Kegelbahnanlage mit zwei Bahne
 n zu sportlicher Abwechslung ein. Ob locker gespielt oder ehrgeizig gekege
 lt – hier verbindet sich Bewegung mit Geselligkeit in entspannter Atmosp
 häre.
URL:https://www.meinplaner.com
DTSTART;TZID=Europe/Amsterdam:20260426T113000
DTEND;TZID=Europe/Amsterdam:20260426T140000
LOCATION:Annaberger Str. 437\, 09125 Chemnitz
BEGIN:VALARM
ACTION:DISPLAY
DESCRIPTION:Erinnerung: Kegeln im La Rustica beginnt in 1 Stunde
TRIGGER;RELATED=END:-PT1H
END:VALARM
END:VEVENT
BEGIN:VEVENT
UID:9b904003de5082d5befa46c4809d3e83
DTSTAMP:20260426T015403Z
SUMMARY:Kegeln im La Rustica
DESCRIPTION:Im La Rustica lädt eine moderne Kegelbahnanlage mit zwei Bahne
 n zu sportlicher Abwechslung ein. Ob locker gespielt oder ehrgeizig gekege
 lt – hier verbindet sich Bewegung mit Geselligkeit in entspannter Atmosp
 häre.
URL:https://www.meinplaner.com
DTSTART;TZID=Europe/Amsterdam:20260426T170000
DTEND;TZID=Europe/Amsterdam:20260426T220000
LOCATION:Annaberger Str. 437\, 09125 Chemnitz
BEGIN:VALARM
ACTION:DISPLAY
DESCRIPTION:Erinnerung: Kegeln im La Rustica beginnt in 1 Stunde
TRIGGER;RELATED=END:-PT1H
END:VALARM
END:VEVENT
END:VCALENDAR
