BEGIN:VCALENDAR
PRODID:-//eluceo/ical//2.0/EN
VERSION:2.0
CALSCALE:GREGORIAN
BEGIN:VEVENT
UID:85284ae4b5dddb8dad8fadc5eca4be0f
DTSTAMP:20260421T140959Z
SUMMARY:Bürgerfest
DESCRIPTION:Der Johannisplatz wird zum lebendigen Treffpunkt für alle Gene
 rationen. Ein abwechslungsreiches Programm mit Fassbieranstich\, feierlich
 er Einweihung sowie Musik\, Showeinlagen und Unterhaltung sorgt für beste
  Stimmung.
URL:https://www.meinplaner.com
DTSTART;TZID=Europe/Amsterdam:20260502T100000
DTEND;TZID=Europe/Amsterdam:20260502T210000
LOCATION:Johannisplatz 1\, 09212 Limbach-Oberfrohna
BEGIN:VALARM
ACTION:DISPLAY
DESCRIPTION:Erinnerung: Bürgerfest beginnt in 1 Stunde
TRIGGER;RELATED=END:-PT1H
END:VALARM
END:VEVENT
END:VCALENDAR
