BEGIN:VCALENDAR
PRODID:-//eluceo/ical//2.0/EN
VERSION:2.0
CALSCALE:GREGORIAN
BEGIN:VEVENT
UID:d331e740296e531c8b0bc26ae786e0bb
DTSTAMP:20260419T221130Z
SUMMARY:Stilvolle und familiäre Gastlichkeit & eine besondere Tradition
DESCRIPTION:Ein besonderes Flair und stilvolle\, familiäre Gastlichkeit 
 – so werden Gäste hier empfangen. Verwöhnt werden sie mit guter und ab
 wechslungsreicher Küche. Neben traditionellen Rossfleischgerichten bietet
  sie auch Gerichte vom Rind\, Schwein\, Huhn und Fisch an.
URL:https://www.meinplaner.com
DTSTART;TZID=Europe/Amsterdam:20260420T170000
DTEND;TZID=Europe/Amsterdam:20260420T220000
LOCATION:Augustusburger Straße  265\, 09127 Chemnitz
BEGIN:VALARM
ACTION:DISPLAY
DESCRIPTION:Erinnerung: Stilvolle und familiäre Gastlichkeit & eine besond
 ere Tradition beginnt in 1 Stunde
TRIGGER;RELATED=END:-PT1H
END:VALARM
END:VEVENT
BEGIN:VEVENT
UID:d2a85db26519bc17f8953db9610f9f24
DTSTAMP:20260419T221130Z
SUMMARY:Stilvolle und familiäre Gastlichkeit & eine besondere Tradition
DESCRIPTION:Ein besonderes Flair und stilvolle\, familiäre Gastlichkeit 
 – so werden Gäste hier empfangen. Verwöhnt werden sie mit guter und ab
 wechslungsreicher Küche. Neben traditionellen Rossfleischgerichten bietet
  sie auch Gerichte vom Rind\, Schwein\, Huhn und Fisch an.
URL:https://www.meinplaner.com
DTSTART;TZID=Europe/Amsterdam:20260420T110000
DTEND;TZID=Europe/Amsterdam:20260420T150000
LOCATION:Augustusburger Straße  265\, 09127 Chemnitz
BEGIN:VALARM
ACTION:DISPLAY
DESCRIPTION:Erinnerung: Stilvolle und familiäre Gastlichkeit & eine besond
 ere Tradition beginnt in 1 Stunde
TRIGGER;RELATED=END:-PT1H
END:VALARM
END:VEVENT
END:VCALENDAR
