BEGIN:VCALENDAR
PRODID:-//eluceo/ical//2.0/EN
VERSION:2.0
CALSCALE:GREGORIAN
BEGIN:VEVENT
UID:89435db9d984f10991e8d64b23f3d6cd
DTSTAMP:20260425T153344Z
SUMMARY:Führung: Ein „Rosswerk“ als Bergbau-Schauanlage
DESCRIPTION:Neben der Vorführung der Göpelfunktion\, an den Wochenenden a
 uch mit Pferden\, gibt es eine historische Bergschmiede\, wo Spindelpresse
  und Schmiedefeuer mit Amboss präsentiert werden. Auch der Märchenberg d
 es Schnitzvereins ist zu bestaunen.
URL:https://www.meinplaner.com
DTSTART;TZID=Europe/Amsterdam:20260426T143000
DTEND;TZID=Europe/Amsterdam:20260426T163000
LOCATION:Lautaer Hauptstr. 12\, 09496 Marienberg
BEGIN:VALARM
ACTION:DISPLAY
DESCRIPTION:Erinnerung: Führung: Ein „Rosswerk“ als Bergbau-Schauanlag
 e beginnt in 1 Stunde
TRIGGER;RELATED=END:-PT1H
END:VALARM
END:VEVENT
BEGIN:VEVENT
UID:3a5fb7c92feb795807b7aa403af1dd38
DTSTAMP:20260425T153344Z
SUMMARY:Führung: Ein „Rosswerk“ als Bergbau-Schauanlage
DESCRIPTION:Neben der Vorführung der Göpelfunktion\, an den Wochenenden a
 uch mit Pferden\, gibt es eine historische Bergschmiede\, wo Spindelpresse
  und Schmiedefeuer mit Amboss präsentiert werden. Auch der Märchenberg d
 es Schnitzvereins ist zu bestaunen.
URL:https://www.meinplaner.com
DTSTART;TZID=Europe/Amsterdam:20260426T110000
DTEND;TZID=Europe/Amsterdam:20260426T130000
LOCATION:Lautaer Hauptstr. 12\, 09496 Marienberg
BEGIN:VALARM
ACTION:DISPLAY
DESCRIPTION:Erinnerung: Führung: Ein „Rosswerk“ als Bergbau-Schauanlag
 e beginnt in 1 Stunde
TRIGGER;RELATED=END:-PT1H
END:VALARM
END:VEVENT
BEGIN:VEVENT
UID:914a270415b0e657cac775bd4e7c3c71
DTSTAMP:20260425T153344Z
SUMMARY:Führung: Ein „Rosswerk“ als Bergbau-Schauanlage
DESCRIPTION:Neben der Vorführung der Göpelfunktion\, an den Wochenenden a
 uch mit Pferden\, gibt es eine historische Bergschmiede\, wo Spindelpresse
  und Schmiedefeuer mit Amboss präsentiert werden. Auch der Märchenberg d
 es Schnitzvereins ist zu bestaunen.
URL:https://www.meinplaner.com
DTSTART;TZID=Europe/Amsterdam:20260426T130000
DTEND;TZID=Europe/Amsterdam:20260426T150000
LOCATION:Lautaer Hauptstr. 12\, 09496 Marienberg
BEGIN:VALARM
ACTION:DISPLAY
DESCRIPTION:Erinnerung: Führung: Ein „Rosswerk“ als Bergbau-Schauanlag
 e beginnt in 1 Stunde
TRIGGER;RELATED=END:-PT1H
END:VALARM
END:VEVENT
END:VCALENDAR
