BEGIN:VCALENDAR
PRODID:-//eluceo/ical//2.0/EN
VERSION:2.0
CALSCALE:GREGORIAN
BEGIN:VEVENT
UID:ca07c44ff478e1b385d77008abb6cc23
DTSTAMP:20260425T203748Z
SUMMARY:Rouladen-Tag
DESCRIPTION:Roulade und Sonntag – passt im Erzgebirge zusammen wie Topf u
 nd Deckel. Und deshalb gibt es am Sonntag Roulade „Oma Christa" mit Rotk
 ohl und Klößen mit Semmelbutter\, Salat vom Salatbuffet und natürlich e
 inem „Kompott". 
URL:https://www.meinplaner.com
DTSTART;TZID=Europe/Amsterdam:20260426T110000
DTEND;TZID=Europe/Amsterdam:20260426T200000
LOCATION:Am Sauberg 1A\, 09427 Ehrenfriedersdorf
BEGIN:VALARM
ACTION:DISPLAY
DESCRIPTION:Erinnerung: Rouladen-Tag beginnt in 1 Stunde
TRIGGER;RELATED=END:-PT1H
END:VALARM
END:VEVENT
END:VCALENDAR
