BEGIN:VCALENDAR
PRODID:-//eluceo/ical//2.0/EN
VERSION:2.0
CALSCALE:GREGORIAN
BEGIN:VEVENT
UID:f33f6277b2ad013bbe6ae40c56470d74
DTSTAMP:20260423T112300Z
SUMMARY:Michael
DESCRIPTION:Der Film beleuchtet Michael Jacksons faszinierendes Leben\, von
  den Anfängen als Leadsänger der Jackson Five bis zu seinem Aufstieg als
  visionärer Künstler und gewährt einen einzigartigen Einblick in seine 
 legendären Auftritte und das Leben abseits der Bühne.
URL:https://www.meinplaner.com
DTSTART;TZID=Europe/Amsterdam:20260423T200000
DTEND;TZID=Europe/Amsterdam:20260423T220000
LOCATION:Poetenweg 6-8\, 08056 Zwickau
BEGIN:VALARM
ACTION:DISPLAY
DESCRIPTION:Erinnerung: Michael beginnt in 1 Stunde
TRIGGER;RELATED=END:-PT1H
END:VALARM
END:VEVENT
BEGIN:VEVENT
UID:5c8b91e62f596b1fb50c3ff8372b7476
DTSTAMP:20260423T112300Z
SUMMARY:Michael
DESCRIPTION:Der Film beleuchtet Michael Jacksons faszinierendes Leben\, von
  den Anfängen als Leadsänger der Jackson Five bis zu seinem Aufstieg als
  visionärer Künstler und gewährt einen einzigartigen Einblick in seine 
 legendären Auftritte und das Leben abseits der Bühne.
URL:https://www.meinplaner.com
DTSTART;TZID=Europe/Amsterdam:20260423T170000
DTEND;TZID=Europe/Amsterdam:20260423T190000
LOCATION:Poetenweg 6-8\, 08056 Zwickau
BEGIN:VALARM
ACTION:DISPLAY
DESCRIPTION:Erinnerung: Michael beginnt in 1 Stunde
TRIGGER;RELATED=END:-PT1H
END:VALARM
END:VEVENT
BEGIN:VEVENT
UID:108040fe5c32e0285e2b6c25a4c21fdc
DTSTAMP:20260423T112300Z
SUMMARY:Michael
DESCRIPTION:Der Film beleuchtet Michael Jacksons faszinierendes Leben\, von
  den Anfängen als Leadsänger der Jackson Five bis zu seinem Aufstieg als
  visionärer Künstler und gewährt einen einzigartigen Einblick in seine 
 legendären Auftritte und das Leben abseits der Bühne.
URL:https://www.meinplaner.com
DTSTART;TZID=Europe/Amsterdam:20260423T200000
DTEND;TZID=Europe/Amsterdam:20260423T220000
LOCATION:Poetenweg 6-8\, 08056 Zwickau
BEGIN:VALARM
ACTION:DISPLAY
DESCRIPTION:Erinnerung: Michael beginnt in 1 Stunde
TRIGGER;RELATED=END:-PT1H
END:VALARM
END:VEVENT
BEGIN:VEVENT
UID:a322b982d3f8c895ef2111675cfba375
DTSTAMP:20260423T112300Z
SUMMARY:Michael
DESCRIPTION:Der Film beleuchtet Michael Jacksons faszinierendes Leben\, von
  den Anfängen als Leadsänger der Jackson Five bis zu seinem Aufstieg als
  visionärer Künstler und gewährt einen einzigartigen Einblick in seine 
 legendären Auftritte und das Leben abseits der Bühne.
URL:https://www.meinplaner.com
DTSTART;TZID=Europe/Amsterdam:20260423T144500
DTEND;TZID=Europe/Amsterdam:20260423T164500
LOCATION:Poetenweg 6-8\, 08056 Zwickau
BEGIN:VALARM
ACTION:DISPLAY
DESCRIPTION:Erinnerung: Michael beginnt in 1 Stunde
TRIGGER;RELATED=END:-PT1H
END:VALARM
END:VEVENT
END:VCALENDAR
