BEGIN:VCALENDAR
PRODID:-//eluceo/ical//2.0/EN
VERSION:2.0
CALSCALE:GREGORIAN
BEGIN:VEVENT
UID:2ae6558ef1ed8df56f42c90da33cc624
DTSTAMP:20260424T003702Z
SUMMARY:ABSCHLUSSVERANSTALTUNG
DESCRIPTION:Abschlussveranstaltung im Rahmen der Chemnitzer Schultheaterwoc
 he.
URL:https://www.meinplaner.com
DTSTART;TZID=Europe/Amsterdam:20260424T143000
DTEND;TZID=Europe/Amsterdam:20260424T163000
LOCATION:Altchemnitzer Str. 27\, 09120 Chemnitz
BEGIN:VALARM
ACTION:DISPLAY
DESCRIPTION:Erinnerung: ABSCHLUSSVERANSTALTUNG beginnt in 1 Stunde
TRIGGER;RELATED=END:-PT1H
END:VALARM
END:VEVENT
END:VCALENDAR
