BEGIN:VCALENDAR
PRODID:-//eluceo/ical//2.0/EN
VERSION:2.0
CALSCALE:GREGORIAN
BEGIN:VEVENT
UID:0f5601a9edbf44091639705cb4068321
DTSTAMP:20260423T165139Z
SUMMARY:Kreatives Handwerk:  Räuchermännchen basteln
DESCRIPTION:Mit Liebe und Kreativität ein einzigartiges Räuchermännchen 
 basteln – traditionelles Handwerk trifft auf persönliche Note. Der Duft
  weckt Erinnerungen\, die Figuren erzählen Geschichten\, und jeder Handgr
 iff macht das Kunstwerk noch besonderer.
URL:https://www.meinplaner.com
DTSTART;TZID=Europe/Amsterdam:20260510T090000
DTEND;TZID=Europe/Amsterdam:20260510T110000
LOCATION:Am Kurpark  10\, 09429 Wolkenstein
BEGIN:VALARM
ACTION:DISPLAY
DESCRIPTION:Erinnerung: Kreatives Handwerk:  Räuchermännchen basteln begi
 nnt in 1 Stunde
TRIGGER;RELATED=END:-PT1H
END:VALARM
END:VEVENT
END:VCALENDAR
