BEGIN:VCALENDAR
PRODID:-//eluceo/ical//2.0/EN
VERSION:2.0
CALSCALE:GREGORIAN
BEGIN:VEVENT
UID:5a9dbc4636f923cabbe7e393b1b4128c
DTSTAMP:20260423T161021Z
SUMMARY:Nachbarschaftstag im Haus Kinderland
DESCRIPTION:Alle Interessierten sind eingeladen\, das „Haus Kinderland“
  kennenzulernen. Geboten wird ein abwechslungsreicher Nachmittag für Gro
 ß und Klein mit Begegnungen\, Entdeckungen im Haus und auf dem Gelände s
 owie vielen neuen Eindrücken.
URL:https://www.meinplaner.com
DTSTART;TZID=Europe/Amsterdam:20260529T140000
DTEND;TZID=Europe/Amsterdam:20260529T180000
LOCATION:Markersdorfer Str. 60\, 09123 Chemnitz
BEGIN:VALARM
ACTION:DISPLAY
DESCRIPTION:Erinnerung: Nachbarschaftstag im Haus Kinderland beginnt in 1 S
 tunde
TRIGGER;RELATED=END:-PT1H
END:VALARM
END:VEVENT
END:VCALENDAR
