BEGIN:VCALENDAR
PRODID:-//eluceo/ical//2.0/EN
VERSION:2.0
CALSCALE:GREGORIAN
BEGIN:VEVENT
UID:271281a688111e77f0c3a7f4fed07cd3
DTSTAMP:20260423T200211Z
SUMMARY:Rossini das Menü 2026
DESCRIPTION:Im Ristorante Di Sopra steht traditionelle italienische Küche 
 im Mittelpunkt. Das Menü überzeugt mit einer feinen Vorspeise aus Seesai
 bling\, einem zarten Black-Angus-Rückensteak als Hauptgang und einem kös
 tlichen Dessert.
URL:https://www.meinplaner.com
DTSTART;TZID=Europe/Amsterdam:20260423T173000
DTEND;TZID=Europe/Amsterdam:20260423T223000
LOCATION:Düsseldorfer Platz 1\, 09111 Chemnitz
BEGIN:VALARM
ACTION:DISPLAY
DESCRIPTION:Erinnerung: Rossini das Menü 2026 beginnt in 1 Stunde
TRIGGER;RELATED=END:-PT1H
END:VALARM
END:VEVENT
BEGIN:VEVENT
UID:e4ff773598c0abb4ba48ab95f23802aa
DTSTAMP:20260423T200211Z
SUMMARY:Rossini das Menü 2026
DESCRIPTION:Im Ristorante Di Sopra steht traditionelle italienische Küche 
 im Mittelpunkt. Das Menü überzeugt mit einer feinen Vorspeise aus Seesai
 bling\, einem zarten Black-Angus-Rückensteak als Hauptgang und einem kös
 tlichen Dessert.
URL:https://www.meinplaner.com
DTSTART;TZID=Europe/Amsterdam:20260423T113000
DTEND;TZID=Europe/Amsterdam:20260423T143000
LOCATION:Düsseldorfer Platz 1\, 09111 Chemnitz
BEGIN:VALARM
ACTION:DISPLAY
DESCRIPTION:Erinnerung: Rossini das Menü 2026 beginnt in 1 Stunde
TRIGGER;RELATED=END:-PT1H
END:VALARM
END:VEVENT
END:VCALENDAR
