BEGIN:VCALENDAR
PRODID:-//eluceo/ical//2.0/EN
VERSION:2.0
CALSCALE:GREGORIAN
BEGIN:VEVENT
UID:62ffdc847024fe24ed0a2ca77380c1ee
DTSTAMP:20260419T213742Z
SUMMARY:Aquafitness
DESCRIPTION:Aquafitness ist ein gelenkschonendes Ganzkörpertraining im Was
 ser. Durch den Widerstand des Wassers werden Ausdauer\, Kraft und Beweglic
 hkeit effektiv gefördert. Ideal für jedes Alter – erfrischend\, effekt
 iv und mit Spaßfaktor!
URL:https://www.meinplaner.com
DTSTART;TZID=Europe/Amsterdam:20260420T174500
DTEND;TZID=Europe/Amsterdam:20260420T183000
LOCATION:Kellerwiese 1\, 09212 Limbach-Oberfrohna
BEGIN:VALARM
ACTION:DISPLAY
DESCRIPTION:Erinnerung: Aquafitness beginnt in 1 Stunde
TRIGGER;RELATED=END:-PT1H
END:VALARM
END:VEVENT
END:VCALENDAR
