BEGIN:VCALENDAR
PRODID:-//eluceo/ical//2.0/EN
VERSION:2.0
CALSCALE:GREGORIAN
BEGIN:VEVENT
UID:1ed60c50f7b6fa78b9b177a78881abc6
DTSTAMP:20260421T071754Z
SUMMARY:Immer wieder neu beginnen? Der Architekt Eric Mendelsohn in den USA
DESCRIPTION:Der Vortrag von Dr. Alexandra Klei beleuchtet Leben und Werk de
 s Architekten Erich Mendelsohn nach seiner Emigration. Im Fokus stehen sei
 ne Zeit in den USA\, neue Netzwerke sowie der Einfluss von Exil und Brüch
 en auf sein Schaffen und seine Rezeption.
URL:https://www.meinplaner.com
DTSTART;TZID=Europe/Amsterdam:20260429T161500
DTEND;TZID=Europe/Amsterdam:20260429T174500
LOCATION:Stefan-Heym-Platz 1\, 09111 Chemnitz
BEGIN:VALARM
ACTION:DISPLAY
DESCRIPTION:Erinnerung: Immer wieder neu beginnen? Der Architekt Eric Mende
 lsohn in den USA beginnt in 1 Stunde
TRIGGER;RELATED=END:-PT1H
END:VALARM
END:VEVENT
END:VCALENDAR
