BEGIN:VCALENDAR
PRODID:-//eluceo/ical//2.0/EN
VERSION:2.0
CALSCALE:GREGORIAN
BEGIN:VEVENT
UID:28b701a17e0ed3534e4f585393478fae
DTSTAMP:20260419T234356Z
SUMMARY:28. Chemnitzer Schultheaterwoche: Letzter Halt: Kernwelt
DESCRIPTION:Kein Ausweg! Ein Forschungsprojekt geht schief\, das Portal in 
 andere Sphären versagt. Plötzlich treffen Welten\, Dimensionen und selts
 ame Figuren aufeinander. Können Gummibärchen unter Wasser atmen? Schaffe
 n es zwei Omas noch zum Bingo?
URL:https://www.meinplaner.com
DTSTART;TZID=Europe/Amsterdam:20260420T190000
DTEND;TZID=Europe/Amsterdam:20260420T210000
LOCATION:Altchemnitzer Str. 27\, 09120 Chemnitz
BEGIN:VALARM
ACTION:DISPLAY
DESCRIPTION:Erinnerung: 28. Chemnitzer Schultheaterwoche: Letzter Halt: Ker
 nwelt beginnt in 1 Stunde
TRIGGER;RELATED=END:-PT1H
END:VALARM
END:VEVENT
END:VCALENDAR
