BEGIN:VCALENDAR
PRODID:-//eluceo/ical//2.0/EN
VERSION:2.0
CALSCALE:GREGORIAN
BEGIN:VEVENT
UID:cedd70178ac9320383893e678f3d0d05
DTSTAMP:20260422T233153Z
SUMMARY:Karaoke-Nacht
DESCRIPTION:Wer schon immer mal den Umfang des eigenen Stimmvolumens und di
 e musikalische Toleranz des Publikums testen wollte\, darf hier seinen Son
 g performen.
URL:https://www.meinplaner.com
DTSTART;TZID=Europe/Amsterdam:20260424T200000
DTEND;TZID=Europe/Amsterdam:20260425T030000
LOCATION:Bahnhofstr. 18\, 09111 Chemnitz
BEGIN:VALARM
ACTION:DISPLAY
DESCRIPTION:Erinnerung: Karaoke-Nacht beginnt in 1 Stunde
TRIGGER;RELATED=END:-PT1H
END:VALARM
END:VEVENT
END:VCALENDAR
