BEGIN:VCALENDAR
PRODID:-//eluceo/ical//2.0/EN
VERSION:2.0
CALSCALE:GREGORIAN
BEGIN:VEVENT
UID:6d7841cac8c52f2bb14222ec43868030
DTSTAMP:20260419T212211Z
SUMMARY:Party in den Mai
DESCRIPTION:Party in den Mai im Braugut Hartmannsdorf – fette Beats\, coo
 le Drinks und beste Stimmung bis in den Morgen.
URL:https://www.meinplaner.com
DTSTART;TZID=Europe/Amsterdam:20260430T200000
DTEND;TZID=Europe/Amsterdam:20260501T010000
LOCATION:Chemnitzer Str. 2\, 09232 Hartmannsdorf
BEGIN:VALARM
ACTION:DISPLAY
DESCRIPTION:Erinnerung: Party in den Mai beginnt in 1 Stunde
TRIGGER;RELATED=END:-PT1H
END:VALARM
END:VEVENT
END:VCALENDAR
