BEGIN:VCALENDAR
PRODID:-//eluceo/ical//2.0/EN
VERSION:2.0
CALSCALE:GREGORIAN
BEGIN:VEVENT
UID:63357a68a9ebb200b4d6b1e308cefef4
DTSTAMP:20260419T213719Z
SUMMARY:Vom Frühstück bis zum Cocktail am Abend
DESCRIPTION:Gemütliches Ambiente\, von dunklem Holz dominiert & durch die 
 besonderen\, schrägen Fenster mit Licht durchflossen\, empfängt die Gäs
 te. Sorgfältig bereitete Kaffeespezialitäten\, Frühstück\, frischgebac
 kener Kuchen\, abends ein Cocktail - hier sitzt man richtig. 
URL:https://www.meinplaner.com
DTSTART;TZID=Europe/Amsterdam:20260420T130000
DTEND;TZID=Europe/Amsterdam:20260420T180000
LOCATION:Bachstr. 4\, 09212 Limbach-Oberfrohna
BEGIN:VALARM
ACTION:DISPLAY
DESCRIPTION:Erinnerung: Vom Frühstück bis zum Cocktail am Abend beginnt i
 n 1 Stunde
TRIGGER;RELATED=END:-PT1H
END:VALARM
END:VEVENT
END:VCALENDAR
