BEGIN:VCALENDAR
PRODID:-//eluceo/ical//2.0/EN
VERSION:2.0
CALSCALE:GREGORIAN
BEGIN:VEVENT
UID:f990cfa31d7a9cdd810d0d8b3c231db7
DTSTAMP:20260419T122025Z
SUMMARY:Aue-Bad Schlema liest!
DESCRIPTION:Lisa Knitt liest aus ihrem eigenen Buch und bringt persönliche
  Geschichten aus der Region auf die Bühne. Eine Lesung voller Einblicke\,
  Erinnerungen und erzählerischer Nähe.
URL:https://www.meinplaner.com
DTSTART;TZID=Europe/Amsterdam:20260424T190000
DTEND;TZID=Europe/Amsterdam:20260424T210000
LOCATION:Wildbacher Hauptstr.  34\, 08280 Aue-Bad Schlema
BEGIN:VALARM
ACTION:DISPLAY
DESCRIPTION:Erinnerung: Aue-Bad Schlema liest! beginnt in 1 Stunde
TRIGGER;RELATED=END:-PT1H
END:VALARM
END:VEVENT
END:VCALENDAR
