BEGIN:VCALENDAR
PRODID:-//eluceo/ical//2.0/EN
VERSION:2.0
CALSCALE:GREGORIAN
BEGIN:VEVENT
UID:b8e095511a7bb28089795bf776283e26
DTSTAMP:20260421T175008Z
SUMMARY:Ein einzigartiger Ausflug in die Renaissance
DESCRIPTION:Weithin sichtbar und eines der schönsten Renaissanceschlösser
  Mitteleuropas! Erbaut 1568 -1572 zieht das Schloss heute mit dem berühmt
 en Altar und der Kanzel von Lucas Cranach d. J. \, einzigartigen Wandmaler
 eien & dem Brunnenhaus Gäste aus aller Welt an.
URL:https://www.meinplaner.com
DTSTART;TZID=Europe/Amsterdam:20260422T100000
DTEND;TZID=Europe/Amsterdam:20260422T180000
LOCATION:Schloss 1\, 09573 Augustusburg
BEGIN:VALARM
ACTION:DISPLAY
DESCRIPTION:Erinnerung: Ein einzigartiger Ausflug in die Renaissance beginn
 t in 1 Stunde
TRIGGER;RELATED=END:-PT1H
END:VALARM
END:VEVENT
END:VCALENDAR
