BEGIN:VCALENDAR
PRODID:-//eluceo/ical//2.0/EN
VERSION:2.0
CALSCALE:GREGORIAN
BEGIN:VEVENT
UID:98cd7ffade0052b0b72cdf2fee8f72a9
DTSTAMP:20260425T025007Z
SUMMARY:Genuss auf hohem Niveau mit eigenem Stil
DESCRIPTION:Schicke Modernität und eine anspruchsvolle Gemütlichkeit biet
 et das zentrumsnahe "Alexxanders" in einem denkmalgeschützten Haus. Inhab
 er und Koch Roland Keilholz und sein Team kreieren auf reizvolle Weise lei
 chte deutsche Küche mit internationalen Einflüssen.
URL:https://www.meinplaner.com
DTSTART;TZID=Europe/Amsterdam:20260425T070000
DTEND;TZID=Europe/Amsterdam:20260425T120000
LOCATION:Ludwig-Kirsch-Str. 9\, 09130 Chemnitz
BEGIN:VALARM
ACTION:DISPLAY
DESCRIPTION:Erinnerung: Genuss auf hohem Niveau mit eigenem Stil beginnt in
  1 Stunde
TRIGGER;RELATED=END:-PT1H
END:VALARM
END:VEVENT
BEGIN:VEVENT
UID:d691a1ad3ab917812f4c738bdad8917c
DTSTAMP:20260425T025007Z
SUMMARY:Genuss auf hohem Niveau mit eigenem Stil
DESCRIPTION:Schicke Modernität und eine anspruchsvolle Gemütlichkeit biet
 et das zentrumsnahe "Alexxanders" in einem denkmalgeschützten Haus. Inhab
 er und Koch Roland Keilholz und sein Team kreieren auf reizvolle Weise lei
 chte deutsche Küche mit internationalen Einflüssen.
URL:https://www.meinplaner.com
DTSTART;TZID=Europe/Amsterdam:20260425T170000
DTEND;TZID=Europe/Amsterdam:20260425T220000
LOCATION:Ludwig-Kirsch-Str. 9\, 09130 Chemnitz
BEGIN:VALARM
ACTION:DISPLAY
DESCRIPTION:Erinnerung: Genuss auf hohem Niveau mit eigenem Stil beginnt in
  1 Stunde
TRIGGER;RELATED=END:-PT1H
END:VALARM
END:VEVENT
END:VCALENDAR
