BEGIN:VCALENDAR
PRODID:-//eluceo/ical//2.0/EN
VERSION:2.0
CALSCALE:GREGORIAN
BEGIN:VEVENT
UID:71a41ea4d181925117e767d5a1c390e6
DTSTAMP:20260419T122021Z
SUMMARY:„Mozart und ich“ IX. – Mozart\, die Glasharmonika und die Fre
 imaurer
DESCRIPTION:Bruno Kliegl zählt zu den wenigen Glasharmonikaspielern Europa
 s. Seit 1995 begeistert er mit historischen und modernen Glasinstrumenten.
  Durch intensive Recherchen bringt er Originalliteratur und Werke vergange
 ner Epochen für Glas zurück auf die Bühne.
URL:https://www.meinplaner.com
DTSTART;TZID=Europe/Amsterdam:20260822T170000
DTEND;TZID=Europe/Amsterdam:20260822T190000
LOCATION:Schlossallee 1\, 09577 Niederwiesa
BEGIN:VALARM
ACTION:DISPLAY
DESCRIPTION:Erinnerung: „Mozart und ich“ IX. – Mozart\, die Glasharmo
 nika und die Freimaurer beginnt in 1 Stunde
TRIGGER;RELATED=END:-PT1H
END:VALARM
END:VEVENT
END:VCALENDAR
