BEGIN:VCALENDAR
PRODID:-//eluceo/ical//2.0/EN
VERSION:2.0
CALSCALE:GREGORIAN
BEGIN:VEVENT
UID:a27716ce3c31d6f03b27a06f9cf645a5
DTSTAMP:20260422T103004Z
SUMMARY:Freiwillig engagieren in Chemnitz: Welches Ehrenamt passt zu mir?
DESCRIPTION:Die Veranstaltung gibt einen Überblick über Möglichkeiten de
 s Ehrenamts und unterstützt bei der Frage\, welches Engagement passend se
 in kann. Themen wie Rahmenbedingungen\, persönliche Motivation und inklus
 ive Angebote stehen im Mittelpunkt.
URL:https://www.meinplaner.com
DTSTART;TZID=Europe/Amsterdam:20260506T184500
DTEND;TZID=Europe/Amsterdam:20260506T201500
LOCATION:Moritzstr. 20\, 09111 Chemnitz
BEGIN:VALARM
ACTION:DISPLAY
DESCRIPTION:Erinnerung: Freiwillig engagieren in Chemnitz: Welches Ehrenamt
  passt zu mir? beginnt in 1 Stunde
TRIGGER;RELATED=END:-PT1H
END:VALARM
END:VEVENT
END:VCALENDAR
