BEGIN:VCALENDAR
PRODID:-//eluceo/ical//2.0/EN
VERSION:2.0
CALSCALE:GREGORIAN
BEGIN:VEVENT
UID:9500e92e9ad32208505c3344069b5030
DTSTAMP:20260424T054540Z
SUMMARY:My Neighbourhood
DESCRIPTION:Christian Stejskal\,begab sich 2008 auf eine Pilgerreise nach 
 Äthiopien\, wo er die „Zabbaleen“ traf. Fünf Jahre lang fangen seine
  Fotos und Geschichten die Hoffnung und den Kampf dieser Menschen ein\, wa
 s in der berührenden Multimedia-Performance mündete.
URL:https://www.meinplaner.com
DTSTART;TZID=Europe/Amsterdam:20260512T190000
DTEND;TZID=Europe/Amsterdam:20260512T210000
LOCATION:Markt 1\, 09496 Marienberg
BEGIN:VALARM
ACTION:DISPLAY
DESCRIPTION:Erinnerung: My Neighbourhood beginnt in 1 Stunde
TRIGGER;RELATED=END:-PT1H
END:VALARM
END:VEVENT
END:VCALENDAR
