BEGIN:VCALENDAR
PRODID:-//eluceo/ical//2.0/EN
VERSION:2.0
CALSCALE:GREGORIAN
BEGIN:VEVENT
UID:f23e2853123dba68e5370b9260610124
DTSTAMP:20260422T215222Z
SUMMARY:Badespaß für die ganze Familie
DESCRIPTION:Das im Jugendstil errichtete Dr. Curt-Geitner-Bad mit Terrazzo-
 Fussböden und glasierten Zier-Keramiken bietet neben finnischer Sauna ein
  Dampfbad und Sanarium. Besondere Kurse gibt es für Familien\, u.a. Senio
 renschwimmen\, Aqua-Fitness und Babyschwimmen.
URL:https://www.meinplaner.com
DTSTART;TZID=Europe/Amsterdam:20260423T150000
DTEND;TZID=Europe/Amsterdam:20260423T170000
LOCATION:Amtsgerichtsstr. 1\, 08289 Schneeberg
BEGIN:VALARM
ACTION:DISPLAY
DESCRIPTION:Erinnerung: Badespaß für die ganze Familie beginnt in 1 Stund
 e
TRIGGER;RELATED=END:-PT1H
END:VALARM
END:VEVENT
BEGIN:VEVENT
UID:064de6c402c4452903e0697e6c11ff56
DTSTAMP:20260422T215222Z
SUMMARY:Badespaß für die ganze Familie
DESCRIPTION:Das im Jugendstil errichtete Dr. Curt-Geitner-Bad mit Terrazzo-
 Fussböden und glasierten Zier-Keramiken bietet neben finnischer Sauna ein
  Dampfbad und Sanarium. Besondere Kurse gibt es für Familien\, u.a. Senio
 renschwimmen\, Aqua-Fitness und Babyschwimmen.
URL:https://www.meinplaner.com
DTSTART;TZID=Europe/Amsterdam:20260423T190000
DTEND;TZID=Europe/Amsterdam:20260423T220000
LOCATION:Amtsgerichtsstr. 1\, 08289 Schneeberg
BEGIN:VALARM
ACTION:DISPLAY
DESCRIPTION:Erinnerung: Badespaß für die ganze Familie beginnt in 1 Stund
 e
TRIGGER;RELATED=END:-PT1H
END:VALARM
END:VEVENT
END:VCALENDAR
