BEGIN:VCALENDAR
PRODID:-//eluceo/ical//2.0/EN
VERSION:2.0
CALSCALE:GREGORIAN
BEGIN:VEVENT
UID:db439ba1e4f214eb9791a4c369d5a017
DTSTAMP:20260422T154034Z
SUMMARY:Abenteuerpark 860 Rabenberg
DESCRIPTION:Im höchstgelegenen Kletterwald Sachsens auf 860 Metern warten 
 6 Parcours mit über 60 Übungen und spektakulären Ausblicken. Ob Adrenal
 in pur oder teambasierte Herausforderungen – ein Abenteuer in der faszin
 ierenden Erzgebirgslandschaft.
URL:https://www.meinplaner.com
DTSTART;TZID=Europe/Amsterdam:20260422T100000
DTEND;TZID=Europe/Amsterdam:20260422T190000
LOCATION:Rabenberg \, 08353 Breitenbrunn/Erzgeb.
BEGIN:VALARM
ACTION:DISPLAY
DESCRIPTION:Erinnerung: Abenteuerpark 860 Rabenberg beginnt in 1 Stunde
TRIGGER;RELATED=END:-PT1H
END:VALARM
END:VEVENT
END:VCALENDAR
