BEGIN:VCALENDAR
PRODID:-//eluceo/ical//2.0/EN
VERSION:2.0
CALSCALE:GREGORIAN
BEGIN:VEVENT
UID:81f866fd3f6c12c38c6e90432cfa5620
DTSTAMP:20260421T202911Z
SUMMARY:Die Magie der Schwerkraft
DESCRIPTION:Warum kreist der Mond um die Erde? Limbradur\, 12\, entdeckt mi
 t dem Roboter ALBY X3 die Geheimnisse des Universums: eine Reise durch Rau
 m und Zeit\, zu Schwarzen Löchern und den Saturnringen.
URL:https://www.meinplaner.com
DTSTART;TZID=Europe/Amsterdam:20260422T153000
DTEND;TZID=Europe/Amsterdam:20260422T173000
LOCATION:Milchstr. 1\, 09430 Drebach
BEGIN:VALARM
ACTION:DISPLAY
DESCRIPTION:Erinnerung: Die Magie der Schwerkraft beginnt in 1 Stunde
TRIGGER;RELATED=END:-PT1H
END:VALARM
END:VEVENT
END:VCALENDAR
