BEGIN:VCALENDAR
PRODID:-//eluceo/ical//2.0/EN
VERSION:2.0
CALSCALE:GREGORIAN
BEGIN:VEVENT
UID:9d3d9e136efe8c1327bf6b542b570e1e
DTSTAMP:20260425T205208Z
SUMMARY:Kulinarische Reise nach Indien
DESCRIPTION:Auf der „Gastromeile“ Innere Klosterstraße lädt Inhaber J
 atinder Singh Goraya ein\, sein Land zu genießen. Die köstlichsten Gewü
 rze und Aromen der indischen Küche duften hier und die speziellen Zuberei
 tungen sind wie eine kulinarische eine Reise nach Fernost.
URL:https://www.meinplaner.com
DTSTART;TZID=Europe/Amsterdam:20260425T170000
DTEND;TZID=Europe/Amsterdam:20260425T220000
LOCATION:Innere Klosterstr. 19\, 09111 Chemnitz
BEGIN:VALARM
ACTION:DISPLAY
DESCRIPTION:Erinnerung: Kulinarische Reise nach Indien beginnt in 1 Stunde
TRIGGER;RELATED=END:-PT1H
END:VALARM
END:VEVENT
BEGIN:VEVENT
UID:404d4efd709b316a17b908354f553fb9
DTSTAMP:20260425T205208Z
SUMMARY:Kulinarische Reise nach Indien
DESCRIPTION:Auf der „Gastromeile“ Innere Klosterstraße lädt Inhaber J
 atinder Singh Goraya ein\, sein Land zu genießen. Die köstlichsten Gewü
 rze und Aromen der indischen Küche duften hier und die speziellen Zuberei
 tungen sind wie eine kulinarische eine Reise nach Fernost.
URL:https://www.meinplaner.com
DTSTART;TZID=Europe/Amsterdam:20260425T110000
DTEND;TZID=Europe/Amsterdam:20260425T140000
LOCATION:Innere Klosterstr. 19\, 09111 Chemnitz
BEGIN:VALARM
ACTION:DISPLAY
DESCRIPTION:Erinnerung: Kulinarische Reise nach Indien beginnt in 1 Stunde
TRIGGER;RELATED=END:-PT1H
END:VALARM
END:VEVENT
END:VCALENDAR
