BEGIN:VCALENDAR
PRODID:-//eluceo/ical//2.0/EN
VERSION:2.0
CALSCALE:GREGORIAN
BEGIN:VEVENT
UID:483494b66d1230bec0cf070bd0385cea
DTSTAMP:20260420T200048Z
SUMMARY:Sammelsurium - vom Nappl bis zu Swarowski-Steine 
DESCRIPTION:Sammelsurium vom Nappl bis zu Swarovski-Steinen: Anlässlich 10
  Jahre Depot Bahnhof N°4 präsentiert das Museum seine Sammlung und zeigt
  erstmals zahlreiche Objekte\, die bisher noch nie öffentlich ausgestellt
  wurden.
URL:https://www.meinplaner.com
DTSTART;TZID=Europe/Amsterdam:20260421T100000
DTEND;TZID=Europe/Amsterdam:20260421T170000
LOCATION:Obere Schlossstr.  36\, 08340 Schwarzenberg/Erzgeb.
BEGIN:VALARM
ACTION:DISPLAY
DESCRIPTION:Erinnerung: Sammelsurium - vom Nappl bis zu Swarowski-Steine  b
 eginnt in 1 Stunde
TRIGGER;RELATED=END:-PT1H
END:VALARM
END:VEVENT
END:VCALENDAR
