BEGIN:VCALENDAR
PRODID:-//eluceo/ical//2.0/EN
VERSION:2.0
CALSCALE:GREGORIAN
BEGIN:VEVENT
UID:dcf318f8f8d86edaecc7b0df09cd1016
DTSTAMP:20260420T154221Z
SUMMARY:Martin Berke: Versöhnlichkeitsstörung
DESCRIPTION:Martin Berke beschreibt die Absurditäten des Lebens und der Ge
 sellschaft\, von der Versöhnlichkeitsstörung über die neoliberale Polit
 ik bis hin zu persönlichen Enttäuschungen\, während er humorvoll die He
 rausforderungen des modernen Daseins reflektiert.
URL:https://www.meinplaner.com
DTSTART;TZID=Europe/Amsterdam:20260425T170000
DTEND;TZID=Europe/Amsterdam:20260425T190000
LOCATION:An der Markthalle 1 -3\, 09111 Chemnitz
BEGIN:VALARM
ACTION:DISPLAY
DESCRIPTION:Erinnerung: Martin Berke: Versöhnlichkeitsstörung beginnt in 
 1 Stunde
TRIGGER;RELATED=END:-PT1H
END:VALARM
END:VEVENT
END:VCALENDAR
