BEGIN:VCALENDAR
PRODID:-//eluceo/ical//2.0/EN
VERSION:2.0
CALSCALE:GREGORIAN
BEGIN:VEVENT
UID:935c9678ffd45dce474470c17514265f
DTSTAMP:20260424T220542Z
SUMMARY:Ready or not 2
DESCRIPTION:Nach dem brutalen Angriff erkennt Grace\, dass ihr Überleben s
 ie in ein gefährliches Spiel katapultiert hat. Mit ihrer Schwester Faith 
 kämpft sie um den Hohen Rat zu stürzen. 4 rivalisierende Familien jagen 
 sie gnadenlos. Am Ende kontrolliert der Sieger alles.
URL:https://www.meinplaner.com
DTSTART;TZID=Europe/Amsterdam:20260424T200000
DTEND;TZID=Europe/Amsterdam:20260424T220000
LOCATION:Poetenweg 6-8\, 08056 Zwickau
BEGIN:VALARM
ACTION:DISPLAY
DESCRIPTION:Erinnerung: Ready or not 2 beginnt in 1 Stunde
TRIGGER;RELATED=END:-PT1H
END:VALARM
END:VEVENT
BEGIN:VEVENT
UID:252dfe3a854af0b0be8fe81270bce1ce
DTSTAMP:20260424T220542Z
SUMMARY:Ready or not 2
DESCRIPTION:Nach dem brutalen Angriff erkennt Grace\, dass ihr Überleben s
 ie in ein gefährliches Spiel katapultiert hat. Mit ihrer Schwester Faith 
 kämpft sie um den Hohen Rat zu stürzen. 4 rivalisierende Familien jagen 
 sie gnadenlos. Am Ende kontrolliert der Sieger alles.
URL:https://www.meinplaner.com
DTSTART;TZID=Europe/Amsterdam:20260424T230500
DTEND;TZID=Europe/Amsterdam:20260424T010500
LOCATION:Poetenweg 6-8\, 08056 Zwickau
BEGIN:VALARM
ACTION:DISPLAY
DESCRIPTION:Erinnerung: Ready or not 2 beginnt in 1 Stunde
TRIGGER;RELATED=END:-PT1H
END:VALARM
END:VEVENT
END:VCALENDAR
