BEGIN:VCALENDAR
PRODID:-//eluceo/ical//2.0/EN
VERSION:2.0
CALSCALE:GREGORIAN
BEGIN:VEVENT
UID:3264c7fbfac0933d57e3d20c5f830da0
DTSTAMP:20260423T174206Z
SUMMARY:Minigolf
DESCRIPTION:Es mag durchaus modernere Anlagen geben\, aber kaum eine\, die 
 so schön in die Natur eingebettet ist. Sitzgelegenheiten & schattenspende
 nde Bäume sorgen für einen angenehmen Aufenthalt. Zubehör ist zu den Ö
 ffnungszeiten am Imbiss erhältlich.\n\n
URL:https://www.meinplaner.com
DTSTART;TZID=Europe/Amsterdam:20260424T110000
DTEND;TZID=Europe/Amsterdam:20260424T180000
LOCATION:Nach den Steegen  2\, 09399 Niederwürschnitz
BEGIN:VALARM
ACTION:DISPLAY
DESCRIPTION:Erinnerung: Minigolf beginnt in 1 Stunde
TRIGGER;RELATED=END:-PT1H
END:VALARM
END:VEVENT
END:VCALENDAR
