BEGIN:VCALENDAR
PRODID:-//eluceo/ical//2.0/EN
VERSION:2.0
CALSCALE:GREGORIAN
BEGIN:VEVENT
UID:b168d5b6d0b64a6aad5108dfd2953852
DTSTAMP:20260426T001332Z
SUMMARY:Offener Männerkreis Chemnitz
DESCRIPTION:Der Männerkreis bietet einen geschützten Raum für Austausch 
 und Stärkung. Es geht um das SEIN\, nicht um Erwartungen. Nährende Eleme
 nte wie Räuchern\, Redekreis und Berührung unterstützen die Entwicklung
 . 
URL:https://www.meinplaner.com
DTSTART;TZID=Europe/Amsterdam:20260520T190000
DTEND;TZID=Europe/Amsterdam:20260520T220000
LOCATION:Altendorfer Str. 28\, 09113 Chemnitz
BEGIN:VALARM
ACTION:DISPLAY
DESCRIPTION:Erinnerung: Offener Männerkreis Chemnitz beginnt in 1 Stunde
TRIGGER;RELATED=END:-PT1H
END:VALARM
END:VEVENT
END:VCALENDAR
